BEGIN:VCALENDAR
VERSION:2.0
PRODID:-//Gresham Japanese Garden - ECPv6.15.20//NONSGML v1.0//EN
CALSCALE:GREGORIAN
METHOD:PUBLISH
X-WR-CALNAME:Gresham Japanese Garden
X-ORIGINAL-URL:https://www.greshamjapanesegarden.org
X-WR-CALDESC:Events for Gresham Japanese Garden
REFRESH-INTERVAL;VALUE=DURATION:PT1H
X-Robots-Tag:noindex
X-PUBLISHED-TTL:PT1H
BEGIN:VTIMEZONE
TZID:America/Los_Angeles
BEGIN:DAYLIGHT
TZOFFSETFROM:-0800
TZOFFSETTO:-0700
TZNAME:PDT
DTSTART:20230312T100000
END:DAYLIGHT
BEGIN:STANDARD
TZOFFSETFROM:-0700
TZOFFSETTO:-0800
TZNAME:PST
DTSTART:20231105T090000
END:STANDARD
BEGIN:DAYLIGHT
TZOFFSETFROM:-0800
TZOFFSETTO:-0700
TZNAME:PDT
DTSTART:20240310T100000
END:DAYLIGHT
BEGIN:STANDARD
TZOFFSETFROM:-0700
TZOFFSETTO:-0800
TZNAME:PST
DTSTART:20241103T090000
END:STANDARD
BEGIN:DAYLIGHT
TZOFFSETFROM:-0800
TZOFFSETTO:-0700
TZNAME:PDT
DTSTART:20250309T100000
END:DAYLIGHT
BEGIN:STANDARD
TZOFFSETFROM:-0700
TZOFFSETTO:-0800
TZNAME:PST
DTSTART:20251102T090000
END:STANDARD
END:VTIMEZONE
BEGIN:VEVENT
DTSTART;TZID=America/Los_Angeles:20240413T130000
DTEND;TZID=America/Los_Angeles:20240413T143000
DTSTAMP:20260421T173756
CREATED:20240101T235743Z
LAST-MODIFIED:20240220T222534Z
UID:10000166-1713013200-1713018600@www.greshamjapanesegarden.org
SUMMARY:Spring Lawn Maintenance
DESCRIPTION:
URL:https://www.greshamjapanesegarden.org/calendar/spring-lawn-maintenance/
LOCATION:Kyoudou Center\, 219 S. Main Avenue\, Gresham\, OR\, 97080
CATEGORIES:Free Seminars
ATTACH;FMTTYPE=image/png:https://www.greshamjapanesegarden.org/wp-content/uploads/2021/01/grass.png
ORGANIZER;CN="Jim Card":MAILTO:gresham.japanese.garden@gmail.com
END:VEVENT
END:VCALENDAR