BEGIN:VCALENDAR
VERSION:2.0
PRODID:-//Gresham Japanese Garden - ECPv6.15.20//NONSGML v1.0//EN
CALSCALE:GREGORIAN
METHOD:PUBLISH
X-WR-CALNAME:Gresham Japanese Garden
X-ORIGINAL-URL:https://www.greshamjapanesegarden.org
X-WR-CALDESC:Events for Gresham Japanese Garden
REFRESH-INTERVAL;VALUE=DURATION:PT1H
X-Robots-Tag:noindex
X-PUBLISHED-TTL:PT1H
BEGIN:VTIMEZONE
TZID:America/Los_Angeles
BEGIN:DAYLIGHT
TZOFFSETFROM:-0800
TZOFFSETTO:-0700
TZNAME:PDT
DTSTART:20220313T100000
END:DAYLIGHT
BEGIN:STANDARD
TZOFFSETFROM:-0700
TZOFFSETTO:-0800
TZNAME:PST
DTSTART:20221106T090000
END:STANDARD
BEGIN:DAYLIGHT
TZOFFSETFROM:-0800
TZOFFSETTO:-0700
TZNAME:PDT
DTSTART:20230312T100000
END:DAYLIGHT
BEGIN:STANDARD
TZOFFSETFROM:-0700
TZOFFSETTO:-0800
TZNAME:PST
DTSTART:20231105T090000
END:STANDARD
BEGIN:DAYLIGHT
TZOFFSETFROM:-0800
TZOFFSETTO:-0700
TZNAME:PDT
DTSTART:20240310T100000
END:DAYLIGHT
BEGIN:STANDARD
TZOFFSETFROM:-0700
TZOFFSETTO:-0800
TZNAME:PST
DTSTART:20241103T090000
END:STANDARD
END:VTIMEZONE
BEGIN:VEVENT
DTSTART;TZID=America/Los_Angeles:20231207T180000
DTEND;TZID=America/Los_Angeles:20231207T200000
DTSTAMP:20260419T144533
CREATED:20221121T184524Z
LAST-MODIFIED:20231209T044003Z
UID:10000072-1701972000-1701979200@www.greshamjapanesegarden.org
SUMMARY:Fundamentals of Pruning Course - Zoom
DESCRIPTION:In the Fundamentals of Pruning course students will cover more than just how to make cuts and shape plants within the landscape. Topics discussed will range from why we prune\, what tools should be used\, and even some basic plant biology—all of which form the foundation and provide the necessary background knowledge needed to prune woody plants correctly. After covering these synergistic topics\, the course will discuss how to approach a variety of plants found in landscapes. \nSign up for Lincoln’s maple pruning courses too!
URL:https://www.greshamjapanesegarden.org/calendar/fundamentals-pruning/
LOCATION:Zoom\, 219 S Main Avenue\, Gresham\, OR
CATEGORIES:Pruning Program
ATTACH;FMTTYPE=image/jpeg:https://www.greshamjapanesegarden.org/wp-content/uploads/2022/11/fundamentals-image.jpg
END:VEVENT
END:VCALENDAR