BEGIN:VCALENDAR
VERSION:2.0
PRODID:-//Gresham Japanese Garden - ECPv6.15.20//NONSGML v1.0//EN
CALSCALE:GREGORIAN
METHOD:PUBLISH
X-WR-CALNAME:Gresham Japanese Garden
X-ORIGINAL-URL:https://www.greshamjapanesegarden.org
X-WR-CALDESC:Events for Gresham Japanese Garden
REFRESH-INTERVAL;VALUE=DURATION:PT1H
X-Robots-Tag:noindex
X-PUBLISHED-TTL:PT1H
BEGIN:VTIMEZONE
TZID:America/Los_Angeles
BEGIN:DAYLIGHT
TZOFFSETFROM:-0800
TZOFFSETTO:-0700
TZNAME:PDT
DTSTART:20230312T100000
END:DAYLIGHT
BEGIN:STANDARD
TZOFFSETFROM:-0700
TZOFFSETTO:-0800
TZNAME:PST
DTSTART:20231105T090000
END:STANDARD
BEGIN:DAYLIGHT
TZOFFSETFROM:-0800
TZOFFSETTO:-0700
TZNAME:PDT
DTSTART:20240310T100000
END:DAYLIGHT
BEGIN:STANDARD
TZOFFSETFROM:-0700
TZOFFSETTO:-0800
TZNAME:PST
DTSTART:20241103T090000
END:STANDARD
BEGIN:DAYLIGHT
TZOFFSETFROM:-0800
TZOFFSETTO:-0700
TZNAME:PDT
DTSTART:20250309T100000
END:DAYLIGHT
BEGIN:STANDARD
TZOFFSETFROM:-0700
TZOFFSETTO:-0800
TZNAME:PST
DTSTART:20251102T090000
END:STANDARD
END:VTIMEZONE
BEGIN:VEVENT
DTSTART;TZID=America/Los_Angeles:20240211T130000
DTEND;TZID=America/Los_Angeles:20240211T150000
DTSTAMP:20260422T215924
CREATED:20231227T033149Z
LAST-MODIFIED:20231227T033149Z
UID:10000164-1707656400-1707663600@www.greshamjapanesegarden.org
SUMMARY:Pruning Conifers in the Garden
DESCRIPTION:This class will build upon the knowledge gained in the ‘Pruning Fundamentals for Conifers’ offered on Zoom the 8th of February. If you missed it\, email administrator@greshamjapanesegarden.com to purchase. \nIn this in-person class\, we will look at various small conifers in and around Tsuru Island and apply useful techniques and strategies that can be used in any garden style. 
URL:https://www.greshamjapanesegarden.org/calendar/pruning-conifers-in-the-garden/
LOCATION:GJG Tsuru Island\, 124 S Main Avenue\, Gresham\, OR\, 97030\, United States
CATEGORIES:Pruning Program
ATTACH;FMTTYPE=image/jpeg:https://www.greshamjapanesegarden.org/wp-content/uploads/2023/12/conifers-maryann.jpg
ORGANIZER;CN="Maryann Lewis":MAILTO:maryann@maryannlewis.com
END:VEVENT
END:VCALENDAR