BEGIN:VCALENDAR
VERSION:2.0
PRODID:-//Gresham Japanese Garden - ECPv6.15.20//NONSGML v1.0//EN
CALSCALE:GREGORIAN
METHOD:PUBLISH
X-WR-CALNAME:Gresham Japanese Garden
X-ORIGINAL-URL:https://www.greshamjapanesegarden.org
X-WR-CALDESC:Events for Gresham Japanese Garden
REFRESH-INTERVAL;VALUE=DURATION:PT1H
X-Robots-Tag:noindex
X-PUBLISHED-TTL:PT1H
BEGIN:VTIMEZONE
TZID:America/Los_Angeles
BEGIN:DAYLIGHT
TZOFFSETFROM:-0800
TZOFFSETTO:-0700
TZNAME:PDT
DTSTART:20240310T100000
END:DAYLIGHT
BEGIN:STANDARD
TZOFFSETFROM:-0700
TZOFFSETTO:-0800
TZNAME:PST
DTSTART:20241103T090000
END:STANDARD
BEGIN:DAYLIGHT
TZOFFSETFROM:-0800
TZOFFSETTO:-0700
TZNAME:PDT
DTSTART:20250309T100000
END:DAYLIGHT
BEGIN:STANDARD
TZOFFSETFROM:-0700
TZOFFSETTO:-0800
TZNAME:PST
DTSTART:20251102T090000
END:STANDARD
BEGIN:DAYLIGHT
TZOFFSETFROM:-0800
TZOFFSETTO:-0700
TZNAME:PDT
DTSTART:20260308T100000
END:DAYLIGHT
BEGIN:STANDARD
TZOFFSETFROM:-0700
TZOFFSETTO:-0800
TZNAME:PST
DTSTART:20261101T090000
END:STANDARD
END:VTIMEZONE
BEGIN:VEVENT
DTSTART;TZID=America/Los_Angeles:20250906T100000
DTEND;TZID=America/Los_Angeles:20250906T160000
DTSTAMP:20260424T020027
CREATED:20250527T002201Z
LAST-MODIFIED:20250605T164356Z
UID:10000227-1757152800-1757174400@www.greshamjapanesegarden.org
SUMMARY:Hands on Pruning a Japanese Garden - Summer-25
DESCRIPTION:For the intermediate pruners\, a hands-on opportunity to prune a variety of plants at a Japanese garden in Boring\, OR\, learning alongside Francheska Snyder\, a professional ornamental pruner. This workshop will focus on vine maples and upright Acer palmatums. You must be comfortable on tall ladders. \nThe Gresham Japanese Garden’s prune the Japanese garden at Vanport International three times a year. There are many shrubs and trees that need restored to their intended size and brought back to the vision of the original garden designer\, Hoichi Kurisu. \nThis workshop is certified by the Oregon Landscape Contractors Board. Licensed landscape construction professionals receive five Continuing Education Hours (CEH). \n 
URL:https://www.greshamjapanesegarden.org/calendar/hands-on-pruning-a-japanese-garden-summer-25/
LOCATION:Vanport International\, 28590 Wally Road\, Boring\, OR\, 97009\, United States
CATEGORIES:Pruning Program
END:VEVENT
BEGIN:VEVENT
DTSTART;TZID=America/Los_Angeles:20250909T130000
DTEND;TZID=America/Los_Angeles:20250909T150000
DTSTAMP:20260424T020027
CREATED:20250728T225426Z
LAST-MODIFIED:20250728T225426Z
UID:10000236-1757422800-1757430000@www.greshamjapanesegarden.org
SUMMARY:Introduction to Ikebana - September
DESCRIPTION:What to Expect in this Workshop\nIn this workshop\, which happens to take place on Chrysanthemum Day\, instructor Nana Bellerud will include discussions on chrysanthemum’s botanical\, historical and cultural aspects. Then\, you will create an ikebana using chrysanthemums and other plant materials. It will be a lot of fun. \nIn addition\, Bellerud will cover the basic concept\, techniques\, tools and equipment\, and plant care for ikebana. Beyond simply producing a beautiful work of art with flowers and natural objects. \nSupplies and tools are onsite to borrow for the workshop. After you’ve worked on your arrangement\, you are encouraged to take a photo and then you will dismantle your work. The plant material is yours to take. If you wish to take your creation home in one piece\, or are interested in practicing ikebana further\, please consider purchasing a kensan and container at the workshop. See below. \nClass will be held in the Gresham Japanese Garden’s Kyoudou Center\, 219A S. Main Avenue\, Gresham\, OR 97030. The building is located at the south end of Main City Park in Gresham\, OR. It is the last building closest to the Springwater Trail. There is a parking lot adjacent to the building. \n\n\nKenzan + Container – $30\nIn ikebana\, the two accessories used is a kenzan\, or some people say pin frog\, and a container. For basic arrangements a shallow container is appropriate. Because ikebana is a practiced art\, owning these accessories is a must to further your practice. \nAlso\, if you’d like to preserve the arrangement you created at the workshop\, these accessories are available for purchase at the workshop. $30 includes both. Cash\, Venmo or check will be accepted.\nNOTE: The cost of the workshop includes the use of the instructor’s kensan and container. 
URL:https://www.greshamjapanesegarden.org/calendar/introduction-to-ikebana-sept/
LOCATION:Kyoudou Center\, 219 S. Main Avenue\, Gresham\, OR\, 97080
CATEGORIES:Introduction to Ikebana,Workshops
ATTACH;FMTTYPE=image/jpeg:https://www.greshamjapanesegarden.org/wp-content/uploads/2025/07/ikebana-web-sept.jpg
END:VEVENT
BEGIN:VEVENT
DTSTART;TZID=America/Los_Angeles:20250918T180000
DTEND;TZID=America/Los_Angeles:20250918T200000
DTSTAMP:20260424T020027
CREATED:20250505T052746Z
LAST-MODIFIED:20250505T055947Z
UID:10000223-1758218400-1758225600@www.greshamjapanesegarden.org
SUMMARY:2025 The Art of Bonsai -Sept-Thursday
DESCRIPTION:🌱 Air Layering & Ground Layering Bonsai Workshop – Part 2\nHands-on Follow-Up Class\nLocation: Gresham Japanese Garden – Kyoudou Center\nMaterials Provided | Bring Your Bonsai Tools \nOverview\nThis class you will check on your air layers and (if successful) guide you through the separation and potting process. To ensure everyone can participate—even if your first attempt doesn’t take—we’ll have extra air layers available. You do not need to have taken Part 1 to participate. Air layers will be available. \n🌿 Note: Once you learn air layering\, you may start scouting branches all over the neighborhood! (Please get permission before layering someone else’s tree.) \nWhat’s Included\n\n✅ Expert instruction\n✅ All specialty materials provided\n✅ One-on-one guidance during hands-on practice\n\nLimited spots available. Secure yours today.
URL:https://www.greshamjapanesegarden.org/calendar/2025-the-art-of-bonsai-sept-thursday/
LOCATION:Kyoudou Center\, 219 S. Main Avenue\, Gresham\, OR\, 97080
CATEGORIES:The Art of Bonsai
ATTACH;FMTTYPE=image/png:https://www.greshamjapanesegarden.org/wp-content/uploads/2025/02/Screenshot-2025-05-04-at-10.08.25 PM.png
END:VEVENT
BEGIN:VEVENT
DTSTART;TZID=America/Los_Angeles:20250920T130000
DTEND;TZID=America/Los_Angeles:20250920T150000
DTSTAMP:20260424T020027
CREATED:20250505T055224Z
LAST-MODIFIED:20250505T060109Z
UID:10000224-1758373200-1758380400@www.greshamjapanesegarden.org
SUMMARY:2025 The Art of Bonsai - Sept-Sat
DESCRIPTION:🌱 Air Layering & Ground Layering Bonsai Workshop – Part 2\nHands-on Follow-Up ClassLocation: Gresham Japanese Garden – Kyoudou CenterMaterials Provided | Bring Your Bonsai Tools \nOverview\nThis class you will check on your air layers and (if successful) guide you through the separation and potting process. To ensure everyone can participate—even if your first attempt doesn’t take—we’ll have extra air layers available. You do not need to have taken Part 1 to participate. Air layers will be available. \n\n🌿 Note: Once you learn air layering\, you may start scouting branches all over the neighborhood! (Please get permission before layering someone else’s tree.) \n\nWhat’s Included\n\n✅ Expert instruction\n✅ All specialty materials provided\n✅ One-on-one guidance during hands-on practice\n\nLimited spots available. Secure yours today.
URL:https://www.greshamjapanesegarden.org/calendar/2025-the-art-of-bonsai-sept-sat-2/
LOCATION:Kyoudou Center\, 219 S. Main Avenue\, Gresham\, OR\, 97080
CATEGORIES:The Art of Bonsai
ATTACH;FMTTYPE=image/png:https://www.greshamjapanesegarden.org/wp-content/uploads/2025/02/Screenshot-2025-05-04-at-10.08.25 PM.png
END:VEVENT
BEGIN:VEVENT
DTSTART;TZID=America/Los_Angeles:20250921T093000
DTEND;TZID=America/Los_Angeles:20250921T123000
DTSTAMP:20260424T020027
CREATED:20250901T140455Z
LAST-MODIFIED:20250909T214411Z
UID:10000239-1758447000-1758457800@www.greshamjapanesegarden.org
SUMMARY:Introduction to Takegaki
DESCRIPTION:Bamboo is a great fencing material because it is a renewable resource that is extremely hardy with excellent structural integrity. Bamboo fences add beauty and serenity to any landscape that withstand the test of time. The Gresham Japanese Garden is offering a bamboo fencing workshop with owner Mark Meenan with American Bamboo Company.\nMr. Meenan will focus on teaching the fundamentals of building traditional Japanese bamboo fences. This class reviews tools and materials as well as techniques including how to cut bamboo. \nThe Gresham Japanese Garden is undergoing a major renovation of their Japanese garden. A portion of this renovation is installing Yotsume-gaki fencing around the perimeter of Tsuru Island. The workshop is free to all students willing to give eight hours of their time on a date TBD volunteering to help make the Yotsume-gaki fencing. Send an email to info@greshamjapanesegarden.com to reserve your spot in the workshop. Non-student volunteers is $45\, and registration is below.\n\n\nAll materials supplied. Participants will take home a Japanese pull saw and fencing spec book.
URL:https://www.greshamjapanesegarden.org/calendar/bamboo-fence-making/
LOCATION:Kyoudou Center\, 219 S. Main Avenue\, Gresham\, OR\, 97080
ATTACH;FMTTYPE=image/webp:https://www.greshamjapanesegarden.org/wp-content/uploads/2025/09/Yotsumi-gaki-768x576-1.webp
END:VEVENT
BEGIN:VEVENT
DTSTART;TZID=America/Los_Angeles:20251003T160000
DTEND;TZID=America/Los_Angeles:20251003T200000
DTSTAMP:20260424T020027
CREATED:20250729T163534Z
LAST-MODIFIED:20251003T010910Z
UID:10000237-1759507200-1759521600@www.greshamjapanesegarden.org
SUMMARY:Bonsai: Group Kobo
DESCRIPTION:We’re excited to unveil Group Kobo\, the newest offering in our Art of Bonsai series. This drop‑in workshop invites you to bring your bonsai anytime between 4PM and 8PM\, in a relaxed\, collaborative environment at the Kyoudou Center. Group Kobo will end at 2pm\, so arrive early enough to receive consultation. \nWhether you’re refining a bonsai’s shape\, practicing wiring\, or planning future enhancements\, you’ll receive expert guidance from GJG’s bonsai master\, Bobby Curttright. alongside a friendly community of fellow enthusiasts. \nYou will have access to use Bobby’s bonsai tools and wiring supplies. Please note: repotting supplies will not be provided\, as repotting is covered in a separate class. Light refreshments will be available. \nIf you’re planning on dropping in\, please bring payment ($20) in cash. We look forward to seeing your creativity enhanced and your knowledge of bonsai strengthened! \nNOTE: Kobo means “workshop” in Japanese.
URL:https://www.greshamjapanesegarden.org/calendar/bonsai-open-kobo/
LOCATION:Kyoudou Center\, 219 S. Main Avenue\, Gresham\, OR\, 97080
CATEGORIES:The Art of Bonsai
ATTACH;FMTTYPE=image/jpeg:https://www.greshamjapanesegarden.org/wp-content/uploads/2025/02/bonsai-bobby-header.jpg
END:VEVENT
BEGIN:VEVENT
DTSTART;TZID=America/Los_Angeles:20251014T130000
DTEND;TZID=America/Los_Angeles:20251014T150000
DTSTAMP:20260424T020027
CREATED:20250914T031413Z
LAST-MODIFIED:20250914T031413Z
UID:10000240-1760446800-1760454000@www.greshamjapanesegarden.org
SUMMARY:Introduction to Ikebana - October
DESCRIPTION:What to Expect in this Workshop\nIn Nana Bellerud’s October class\, you will focus on color combinations\, in particular\, autumn colors. It will be fun to see different color combinations give different impressions.  We will be using the “ordinary” plant materials that are in bloom to create an extraordinary piece of art. Please join us! \nIn addition\, Bellerud will cover the basic concept\, techniques\, tools and equipment\, and plant care for ikebana. Beyond simply producing a beautiful work of art with flowers and natural objects. \nSupplies and tools are onsite to borrow for the workshop. After you’ve worked on your arrangement\, you are encouraged to take a photo and then you will dismantle your work. The plant material is yours to take. If you wish to take your creation home in one piece\, or are interested in practicing ikebana further\, please consider purchasing a kensan and container at the workshop. See below. \nClass will be held in the Gresham Japanese Garden’s Kyoudou Center\, 219A S. Main Avenue\, Gresham\, OR 97030. The building is located at the south end of Main City Park in Gresham\, OR. It is the last building closest to the Springwater Trail. There is a parking lot adjacent to the building. \nKenzan + Container – $30\nIn ikebana\, the two accessories used is a kenzan\, or some people say pin frog\, and a container. For basic arrangements a shallow container is appropriate. Because ikebana is a practiced art\, owning these accessories is a must to further your practice. \nAlso\, if you’d like to preserve the arrangement you created at the workshop\, these accessories are available for purchase at the workshop. $30 includes both. Cash\, Venmo or check will be accepted.\nNOTE: The cost of the workshop includes the use of the instructor’s kensan and container. 
URL:https://www.greshamjapanesegarden.org/calendar/introduction-to-ikebana-october/
LOCATION:Kyoudou Center\, 219 S. Main Avenue\, Gresham\, OR\, 97080
CATEGORIES:Introduction to Ikebana,Workshops
ATTACH;FMTTYPE=image/jpeg:https://www.greshamjapanesegarden.org/wp-content/uploads/2025/09/ikebana-oct.jpg
END:VEVENT
BEGIN:VEVENT
DTSTART;TZID=America/Los_Angeles:20251016T180000
DTEND;TZID=America/Los_Angeles:20251016T200000
DTSTAMP:20260424T020027
CREATED:20250724T194705Z
LAST-MODIFIED:20251003T005416Z
UID:10000232-1760637600-1760644800@www.greshamjapanesegarden.org
SUMMARY:2025 The Art of Bonsai: Oct-Thurs
DESCRIPTION:Basic Wiring\nOverview\nThis class will focus on basic wiring of bonsai.Wiring a bonsai is an important design technique for shaping a bonsai. The growth and shape of the bonsai is influenced by the wire that is wrapped around the trunk and/or branches. The wired parts are bent in the desired direction. Once the form has solidified\, the bonsai wire can be removed. \nSlightly more detailed wiring a bonsai is\, besides pruning\, the most important design technique for forming a bonsai. When forming a bonsai\, a normal tree is designed according to a given ideal. The goal is usually that young\, not yet developed bonsai tree to look old and venerable. \nAll materials are provided. Please bring needle nose pliers\, wire cutters\, and your own bonsai tools if you have them.\nNOTE: This bonsai workshop will be taking place in the Gresham Japanese Garden’s greenhouse behind the Kyoudou Center.  \nLimited spots available. Secure yours today.
URL:https://www.greshamjapanesegarden.org/calendar/2025-the-art-of-bonsai-oct-thurs/
LOCATION:Kyoudou Center\, 219 S. Main Avenue\, Gresham\, OR\, 97080
CATEGORIES:The Art of Bonsai
ATTACH;FMTTYPE=image/jpeg:https://www.greshamjapanesegarden.org/wp-content/uploads/2025/07/bonai-wiring.jpg
END:VEVENT
BEGIN:VEVENT
DTSTART;TZID=America/Los_Angeles:20251025T130000
DTEND;TZID=America/Los_Angeles:20251025T150000
DTSTAMP:20260424T020027
CREATED:20250724T194042Z
LAST-MODIFIED:20251003T021706Z
UID:10000231-1761397200-1761404400@www.greshamjapanesegarden.org
SUMMARY:2025 The Art of Bonsai: Oct-Sat
DESCRIPTION:Basic Wiring\nOverview\nThis class will focus on basic wiring of bonsai. Wiring a bonsai is an important design technique for shaping a bonsai. The growth and shape of the bonsai is influenced by the wire that is wrapped around the trunk and/or branches. The wired parts are bent in the desired direction. Once the form has solidified\, the bonsai wire can be removed. \nSlightly more detailed wiring a bonsai is\, besides pruning\, the most important design technique for forming a bonsai. When forming a bonsai\, a normal tree is designed according to a given ideal. The goal is usually that young\, not yet developed bonsai tree to look old and venerable. \nAll materials are provided. Please bring needle nose pliers\, wire cutters\, and your own bonsai tools if you have them.\n\nNOTE: Due to a rental in the Kyoudou Center\, this workshop is being held on the 4th Saturday of the month. \nLimited spots available. Secure yours today.
URL:https://www.greshamjapanesegarden.org/calendar/2025-the-art-of-bonsai-oct-sat/
LOCATION:Kyoudou Center\, 219 S. Main Avenue\, Gresham\, OR\, 97080
CATEGORIES:The Art of Bonsai
ATTACH;FMTTYPE=image/jpeg:https://www.greshamjapanesegarden.org/wp-content/uploads/2025/07/bonai-wiring.jpg
END:VEVENT
END:VCALENDAR