BEGIN:VCALENDAR
VERSION:2.0
PRODID:-//Gresham Japanese Garden - ECPv6.15.20//NONSGML v1.0//EN
CALSCALE:GREGORIAN
METHOD:PUBLISH
X-WR-CALNAME:Gresham Japanese Garden
X-ORIGINAL-URL:https://www.greshamjapanesegarden.org
X-WR-CALDESC:Events for Gresham Japanese Garden
REFRESH-INTERVAL;VALUE=DURATION:PT1H
X-Robots-Tag:noindex
X-PUBLISHED-TTL:PT1H
BEGIN:VTIMEZONE
TZID:America/Los_Angeles
BEGIN:DAYLIGHT
TZOFFSETFROM:-0800
TZOFFSETTO:-0700
TZNAME:PDT
DTSTART:20240310T100000
END:DAYLIGHT
BEGIN:STANDARD
TZOFFSETFROM:-0700
TZOFFSETTO:-0800
TZNAME:PST
DTSTART:20241103T090000
END:STANDARD
BEGIN:DAYLIGHT
TZOFFSETFROM:-0800
TZOFFSETTO:-0700
TZNAME:PDT
DTSTART:20250309T100000
END:DAYLIGHT
BEGIN:STANDARD
TZOFFSETFROM:-0700
TZOFFSETTO:-0800
TZNAME:PST
DTSTART:20251102T090000
END:STANDARD
BEGIN:DAYLIGHT
TZOFFSETFROM:-0800
TZOFFSETTO:-0700
TZNAME:PDT
DTSTART:20260308T100000
END:DAYLIGHT
BEGIN:STANDARD
TZOFFSETFROM:-0700
TZOFFSETTO:-0800
TZNAME:PST
DTSTART:20261101T090000
END:STANDARD
BEGIN:DAYLIGHT
TZOFFSETFROM:-0800
TZOFFSETTO:-0700
TZNAME:PDT
DTSTART:20270314T100000
END:DAYLIGHT
BEGIN:STANDARD
TZOFFSETFROM:-0700
TZOFFSETTO:-0800
TZNAME:PST
DTSTART:20271107T090000
END:STANDARD
END:VTIMEZONE
BEGIN:VEVENT
DTSTART;TZID=America/Los_Angeles:20251120T180000
DTEND;TZID=America/Los_Angeles:20251120T200000
DTSTAMP:20260420T203453
CREATED:20250724T212302Z
LAST-MODIFIED:20250724T212302Z
UID:10000234-1763661600-1763668800@www.greshamjapanesegarden.org
SUMMARY:2025 The Art of Bonsai: Nov-Thurs
DESCRIPTION:Saikei (最景)\nOverview\nThis class will focus on saikei. Saikei is a Japanese art form that combines bonsai techniques with elements of landscape gardening to create a living landscape. You can introduce trees\, rocks\, and other natural materials to depict a natural scene\, such as a forest\, mountain\, or coastal area. The goal is to evoke the feeling of a large natural landscape in a small\, contained space. \nAll materials are provided. Please bring your own bonsai tools if you have them. \nLimited spots available. Secure yours today.
URL:https://www.greshamjapanesegarden.org/calendar/2025-the-art-of-bonsai-nov-thurs/
LOCATION:Kyoudou Center\, 219 S. Main Avenue\, Gresham\, OR\, 97080
CATEGORIES:The Art of Bonsai
ATTACH;FMTTYPE=image/jpeg:https://www.greshamjapanesegarden.org/wp-content/uploads/2025/07/saikei2-1.jpg
END:VEVENT
BEGIN:VEVENT
DTSTART;TZID=America/Los_Angeles:20251201T180000
DTEND;TZID=America/Los_Angeles:20251201T200000
DTSTAMP:20260420T203453
CREATED:20250102T020957Z
LAST-MODIFIED:20250102T022026Z
UID:10000199-1764612000-1764619200@www.greshamjapanesegarden.org
SUMMARY:Wreath Making Workshop & More: Dec 1st
DESCRIPTION:Monday\, Dec 1\, 2025\, 6-8pm\nGet ready for the holidays by making a beautiful wreath to hang on your front door. The wreath can span as large as 26″. The Gresham Japanese Garden offers a wide range of unique conifers and evergreen shrubs to choose from to make your wreath\, complete with a handmade bow to add as a final accent. \nCost includes the ring\, wire\, all greenery\, berries\, handmade bow to make a beautiful 22″ diameter wreath. And\, enjoy a glass a wine or other beverage and little bite to eat while you’re making your wreath. \nCOST: $60 \nClass will be held in inside GJG’s Kyoudou Center at Main City Park.
URL:https://www.greshamjapanesegarden.org/calendar/wreathmaking-workshop-wine-dec-2nd/
LOCATION:Kyoudou Center\, 219 S. Main Avenue\, Gresham\, OR\, 97080
CATEGORIES:Workshops
ATTACH;FMTTYPE=image/jpeg:https://www.greshamjapanesegarden.org/wp-content/uploads/2025/01/2024-wreath-sm.jpg
ORGANIZER;CN="Sue Protz":MAILTO:administrator@greshamjapanesegarden.com
END:VEVENT
BEGIN:VEVENT
DTSTART;TZID=America/Los_Angeles:20251202T130000
DTEND;TZID=America/Los_Angeles:20251202T150000
DTSTAMP:20260420T203453
CREATED:20251127T021931Z
LAST-MODIFIED:20251129T153225Z
UID:10000249-1764680400-1764687600@www.greshamjapanesegarden.org
SUMMARY:Introduction to Ikebana - December
DESCRIPTION:What to Expect in this Workshop\nIn Nana Bellerud’s December class\, you will focus on the holidays\, and some holiday ideas will be included in your arrangement. Still keeping the principles and core concepts of ikebana\, she will share some material and design ideas for the holidays that participants can use. \nIn addition\, Bellerud will cover the basic concept\, techniques\, tools and equipment\, and plant care for ikebana. Beyond simply producing a beautiful work of art with flowers and natural objects. \nSupplies and tools are onsite to borrow for the workshop. After you’ve worked on your arrangement\, you are encouraged to take a photo and then you will dismantle your work. The plant material is yours to take. If you wish to take your creation home in one piece\, or are interested in practicing ikebana further\, please consider purchasing a kensan and container at the workshop. See below. \nClass will be held in the Gresham Japanese Garden’s Kyoudou Center\, 219A S. Main Avenue\, Gresham\, OR 97030. The building is located at the south end of Main City Park in Gresham\, OR. It is the last building closest to the Springwater Trail. There is a parking lot adjacent to the building. \nKenzan + Container – $30\nIn ikebana\, the two accessories used is a kenzan\, or some people say pin frog\, and a container. For basic arrangements a shallow container is appropriate. Because ikebana is a practiced art\, owning these accessories is a must to further your practice. \nAlso\, if you’d like to preserve the arrangement you created at the workshop\, these accessories are available for purchase at the workshop. $30 includes both. Cash\, Venmo or check will be accepted.\nNOTE: The cost of the workshop includes the use of the instructor’s kensan and container. 
URL:https://www.greshamjapanesegarden.org/calendar/introduction-to-ikebana-dec-2025/
LOCATION:Kyoudou Center\, 219 S. Main Avenue\, Gresham\, OR\, 97080
CATEGORIES:Introduction to Ikebana,Workshops
ATTACH;FMTTYPE=image/jpeg:https://www.greshamjapanesegarden.org/wp-content/uploads/2025/11/20251111_153247.jpg
END:VEVENT
BEGIN:VEVENT
DTSTART;TZID=America/Los_Angeles:20251207T140000
DTEND;TZID=America/Los_Angeles:20251207T160000
DTSTAMP:20260420T203453
CREATED:20250102T210712Z
LAST-MODIFIED:20251122T002521Z
UID:10000200-1765116000-1765123200@www.greshamjapanesegarden.org
SUMMARY:Wreath Making Workshop & More: Dec 7th
DESCRIPTION:Sunday\, Dec 7\, 2025\, 2-4pm\nGet ready for the holidays by making a beautiful wreath to hang on your front door. The wreath can span as large as 26″. The Gresham Japanese Garden offers a wide range of unique conifers and evergreen shrubs to choose from to make your wreath\, complete with a handmade bow to add as a final accent. \nCost includes the ring\, wire\, all greenery\, berries\, handmade bow to make a beautiful 22″ diameter wreath. And\, enjoy a glass a wine or other beverage and little bite to eat while you’re making your wreath. \nCOST: $60 \nClass will be held in inside GJG’s Kyoudou Center at Main City Park.
URL:https://www.greshamjapanesegarden.org/calendar/wreath-making-workshop-more-dec-7th/
LOCATION:Kyoudou Center\, 219 S. Main Avenue\, Gresham\, OR\, 97080
CATEGORIES:Workshops
ATTACH;FMTTYPE=image/jpeg:https://www.greshamjapanesegarden.org/wp-content/uploads/2025/01/2024-wreath-sm.jpg
ORGANIZER;CN="Sue Protz":MAILTO:administrator@greshamjapanesegarden.com
END:VEVENT
BEGIN:VEVENT
DTSTART;TZID=America/Los_Angeles:20251214T130000
DTEND;TZID=America/Los_Angeles:20251214T160000
DTSTAMP:20260420T203454
CREATED:20251026T215249Z
LAST-MODIFIED:20251203T184056Z
UID:10000248-1765717200-1765728000@www.greshamjapanesegarden.org
SUMMARY:Bonsai: Group Kobo
DESCRIPTION:We’re excited to unveil Group Kobo\, the newest offering in our Art of Bonsai series. This drop‑in workshop invites you to bring your bonsai anytime between 1-4pm in a relaxed\, collaborative environment at the Kyoudou Center. Group Kobo will end at 4pm\, so arrive early enough to receive consultation. \nWhether you’re refining a bonsai’s shape\, practicing wiring\, or planning future enhancements\, you’ll receive expert guidance from GJG’s bonsai master\, Bobby Curttright. alongside a friendly community of fellow enthusiasts. \nYou will have access to use Bobby’s bonsai tools and wiring supplies. Please note: repotting supplies will not be provided\, as repotting is covered in a separate class. Light refreshments will be available. \nIf you’re planning on dropping in\, please bring payment ($20) in cash. We look forward to seeing your creativity enhanced and your knowledge of bonsai strengthened! \nNOTE: Kobo means “workshop” in Japanese.
URL:https://www.greshamjapanesegarden.org/calendar/bonsai-group-kobo-dec/
LOCATION:Kyoudou Center\, 219 S. Main Avenue\, Gresham\, OR\, 97080
CATEGORIES:The Art of Bonsai
ATTACH;FMTTYPE=image/jpeg:https://www.greshamjapanesegarden.org/wp-content/uploads/2025/02/bonsai-bobby-header.jpg
END:VEVENT
BEGIN:VEVENT
DTSTART;TZID=America/Los_Angeles:20251218T180000
DTEND;TZID=America/Los_Angeles:20251218T200000
DTSTAMP:20260420T203454
CREATED:20251022T223752Z
LAST-MODIFIED:20251130T044543Z
UID:10000246-1766080800-1766088000@www.greshamjapanesegarden.org
SUMMARY:2025 The Art of Bonsai: Dec-Thurs
DESCRIPTION:Bonsai Spruce\nOverview\nNothing speaks to the holidays than a decorated spruce tree. This class will focus on spruces. Yes you can shape like a Christmas tree or take your art a different direction. Bonsai Master Bobby Curttright will share insights on styling based on the spruce you choose for the workshop. Wiring will be an option as well. \nSpruces requires full sun\, consistent moisture\, and proper drainage\, but needs protection from harsh winters. You will learn about winter care\, and spring care including when to prune and when to fertilize. \nAll materials except holiday decorations for your spruce are provided. Please bring your own pruners\, snippers\, needle nose pliers and gloves. \nGift certificates available here.
URL:https://www.greshamjapanesegarden.org/calendar/2025-the-art-of-bonsai-dec-thurs-2/
LOCATION:Kyoudou Center\, 219 S. Main Avenue\, Gresham\, OR\, 97080
CATEGORIES:The Art of Bonsai
ATTACH;FMTTYPE=image/png:https://www.greshamjapanesegarden.org/wp-content/uploads/2025/10/Screenshot-2025-10-22-at-3.25.40-PM.png
END:VEVENT
BEGIN:VEVENT
DTSTART;TZID=America/Los_Angeles:20251220T130000
DTEND;TZID=America/Los_Angeles:20251220T150000
DTSTAMP:20260420T203454
CREATED:20251022T224032Z
LAST-MODIFIED:20251130T044508Z
UID:10000247-1766235600-1766242800@www.greshamjapanesegarden.org
SUMMARY:2025 The Art of Bonsai: Dec-Sat
DESCRIPTION:Bonsai Spruce\nOverview\nNothing speaks to the holidays than a decorated spruce tree. This class will focus on spruces. Yes you can shape like a Christmas tree or take your art a different direction. Bonsai Master Bobby Curttright will share insights on styling based on the spruce you choose for the workshop. Wiring will be an option as well. \nSpruces requires full sun\, consistent moisture\, and proper drainage\, but needs protection from harsh winters. You will learn about winter care\, and spring care including when to prune and when to fertilize. \nAll materials except holiday decorations for your spruce are provided. Please bring your own pruners\, snippers\, needle nose pliers and gloves. \nGift certificates available here.
URL:https://www.greshamjapanesegarden.org/calendar/2025-the-art-of-bonsai-dec-sat/
LOCATION:Kyoudou Center\, 219 S. Main Avenue\, Gresham\, OR\, 97080
ATTACH;FMTTYPE=image/png:https://www.greshamjapanesegarden.org/wp-content/uploads/2025/10/Screenshot-2025-10-22-at-3.25.40-PM.png
END:VEVENT
BEGIN:VEVENT
DTSTART;TZID=America/Los_Angeles:20260113T130000
DTEND;TZID=America/Los_Angeles:20260113T150000
DTSTAMP:20260420T203454
CREATED:20251130T051415Z
LAST-MODIFIED:20251223T225833Z
UID:10000251-1768309200-1768316400@www.greshamjapanesegarden.org
SUMMARY:Introduction to Ikebana - January
DESCRIPTION:What to Expect in this Workshop\nNana Bellerud starts out 2026 with Japanese New Year’s customs and decorations for your arrangement. Still keeping the principles and core concepts of ikebana\, she will share some material and design ideas. \nIn addition\, Bellerud will cover the basic concept\, techniques\, tools and equipment\, and plant care for ikebana. Beyond simply producing a beautiful work of art with flowers and natural objects. \nSupplies and tools are onsite to borrow for the workshop. After you’ve worked on your arrangement\, you are encouraged to take a photo and then you will dismantle your work. The plant material is yours to take. If you wish to take your creation home in one piece\, or are interested in practicing ikebana further\, please consider purchasing a kensan and container at the workshop. See below. \nClass will be held in the Gresham Japanese Garden’s Kyoudou Center\, 219A S. Main Avenue\, Gresham\, OR 97030. The building is located at the south end of Main City Park in Gresham\, OR. It is the last building closest to the Springwater Trail. There is a parking lot adjacent to the building. \nKenzan + Container – $30\nIn ikebana\, the two accessories used is a kenzan\, or some people say pin frog\, and a container. For basic arrangements a shallow container is appropriate. Because ikebana is a practiced art\, owning these accessories is a must to further your practice. \nAlso\, if you’d like to preserve the arrangement you created at the workshop\, these accessories are available for purchase at the workshop. $30 includes both. Cash\, Venmo or check will be accepted.\nNOTE: The cost of the workshop includes the use of the instructor’s kensan and container. 
URL:https://www.greshamjapanesegarden.org/calendar/intro-to-ikebana-2026-jan/
LOCATION:Kyoudou Center\, 219 S. Main Avenue\, Gresham\, OR\, 97080
CATEGORIES:Introduction to Ikebana,Workshops
ATTACH;FMTTYPE=image/jpeg:https://www.greshamjapanesegarden.org/wp-content/uploads/2025/11/ikebana-jan.jpg
END:VEVENT
BEGIN:VEVENT
DTSTART;TZID=America/Los_Angeles:20260115T180000
DTEND;TZID=America/Los_Angeles:20260115T200000
DTSTAMP:20260420T203454
CREATED:20251130T052058Z
LAST-MODIFIED:20251226T023036Z
UID:10000253-1768500000-1768507200@www.greshamjapanesegarden.org
SUMMARY:2026 The Art of Bonsai: Jan-Thurs
DESCRIPTION:Deadwood Creation\, Carving\, Cleaning\, and Preservation Workshop\nIn this hands-on workshop\, you will learn how to create and refine deadwood features that enhance age\, character\, and natural storytelling in bonsai. Deadwood work—when done thoughtfully—can highlight the tree’s movement\, history\, and resilience. \nWhat You Will Learn: \n1. Understanding Deadwood in Bonsai\nWe’ll begin with an overview of the three classic deadwood styles: \n\nJin – a branch stripped of bark to mimic natural breakage or age.\nShari – a barkless strip along the trunk representing sun exposure\, damage\, or weathering.\nUro – a hollowed scar or wound that suggests old injury or decay.\n\nYou’ll learn how each technique occurs in nature and how to replicate these effects artistically while maintaining the health of your tree. \n2. Deadwood Creation and Carving Techniques\nUsing carving tools\, pliers\, and controlled stripping methods\, you will practice shaping deadwood so it feels organic rather than man-made. The focus will be on creating natural flow\, taper\, and texture without compromising structural integrity. \n3. Cleaning and Refining Aged Deadwood\nYou’ll learn how to clean old deadwood to brighten fibers\, enhance grain direction\, and prepare the surface for preservation. We’ll cover techniques such as brushing\, sanding\, and subtle re-carving to create realistic detail. \n4. Preserving and Whitening Deadwood\nFinally\, we will demonstrate how to protect deadwood using lime sulfur and other preservation methods. You’ll learn when\, where\, and how to apply these treatments for long-lasting protection from rot\, insects\, and moisture. \nTake-Home Project\nEach participant will work on a practice piece and receive guidance on how to safely apply these techniques to their own bonsai at home. All tools and materials will be provided for the workshop. \nSkill Level\nThis workshop is suitable for beginners ready to learn foundational carving methods\, as well as intermediate practitioners looking to refine their technique. \nGift certificates available here.
URL:https://www.greshamjapanesegarden.org/calendar/2026-the-art-of-bonsai-jan-thurs/
LOCATION:Kyoudou Center\, 219 S. Main Avenue\, Gresham\, OR\, 97080
ATTACH;FMTTYPE=image/jpeg:https://www.greshamjapanesegarden.org/wp-content/uploads/2025/11/deadwood-sm.jpg
END:VEVENT
BEGIN:VEVENT
DTSTART;TZID=America/Los_Angeles:20260131T130000
DTEND;TZID=America/Los_Angeles:20260131T150000
DTSTAMP:20260420T203454
CREATED:20251129T055347Z
LAST-MODIFIED:20260119T153005Z
UID:10000250-1769864400-1769871600@www.greshamjapanesegarden.org
SUMMARY:2026 The Art of Bonsai: Jan-Sat
DESCRIPTION:Deadwood Creation\, Carving\, Cleaning\, and Preservation Workshop\nTHIS WORKSHOP IS RESCHEDULED FROM THE 17TH\, DUE TO THE INSTRUCTOR BEING SICK. \nIn this hands-on workshop\, you will learn how to create and refine deadwood features that enhance age\, character\, and natural storytelling in bonsai. Deadwood work—when done thoughtfully—can highlight the tree’s movement\, history\, and resilience. \nWhat You Will Learn: \n1. Understanding Deadwood in Bonsai\nWe’ll begin with an overview of the three classic deadwood styles: \n\nJin – a branch stripped of bark to mimic natural breakage or age.\nShari – a barkless strip along the trunk representing sun exposure\, damage\, or weathering.\nUro – a hollowed scar or wound that suggests old injury or decay.\n\nYou’ll learn how each technique occurs in nature and how to replicate these effects artistically while maintaining the health of your tree. \n2. Deadwood Creation and Carving Techniques\nUsing carving tools\, pliers\, and controlled stripping methods\, you will practice shaping deadwood so it feels organic rather than man-made. The focus will be on creating natural flow\, taper\, and texture without compromising structural integrity. \n3. Cleaning and Refining Aged Deadwood\nYou’ll learn how to clean old deadwood to brighten fibers\, enhance grain direction\, and prepare the surface for preservation. We’ll cover techniques such as brushing\, sanding\, and subtle re-carving to create realistic detail. \n4. Preserving and Whitening Deadwood\nFinally\, we will demonstrate how to protect deadwood using lime sulfur and other preservation methods. You’ll learn when\, where\, and how to apply these treatments for long-lasting protection from rot\, insects\, and moisture. \nTake-Home Project\nEach participant will work on a practice piece and receive guidance on how to safely apply these techniques to their own bonsai at home. All tools and materials will be provided for the workshop. \nSkill Level\nThis workshop is suitable for beginners ready to learn foundational carving methods\, as well as intermediate practitioners looking to refine their technique. \nGift certificates available here.
URL:https://www.greshamjapanesegarden.org/calendar/2026-art-of-bonsai-jan/
LOCATION:Kyoudou Center\, 219 S. Main Avenue\, Gresham\, OR\, 97080
ATTACH;FMTTYPE=image/jpeg:https://www.greshamjapanesegarden.org/wp-content/uploads/2025/11/deadwood-sm.jpg
END:VEVENT
BEGIN:VEVENT
DTSTART;TZID=America/Los_Angeles:20260210T130000
DTEND;TZID=America/Los_Angeles:20260210T150000
DTSTAMP:20260420T203454
CREATED:20251206T012735Z
LAST-MODIFIED:20251223T225716Z
UID:10000256-1770728400-1770735600@www.greshamjapanesegarden.org
SUMMARY:Introduction to Ikebana - February
DESCRIPTION:What to Expect in this Workshop\nTeacher Nana Bellerud’s February workshop will concentrate on Valentine’s Day Japanese style. Still keeping the principles and core concepts of ikebana\, she will share some material and design ideas. \nIn addition\, Bellerud will cover the basic concept\, techniques\, tools and equipment\, and plant care for ikebana. Beyond simply producing a beautiful work of art with flowers and natural objects. \nSupplies and tools are onsite to borrow for the workshop. After you’ve worked on your arrangement\, you are encouraged to take a photo and then you will dismantle your work. The plant material is yours to take. If you wish to take your creation home in one piece\, or are interested in practicing ikebana further\, please consider purchasing a kensan and container at the workshop. See below. \nClass will be held in the Gresham Japanese Garden’s Kyoudou Center\, 219A S. Main Avenue\, Gresham\, OR 97030. The building is located at the south end of Main City Park in Gresham\, OR. It is the last building closest to the Springwater Trail. There is a parking lot adjacent to the building. \nKenzan + Container – $30\nIn ikebana\, the two accessories used is a kenzan\, or some people say pin frog\, and a container. For basic arrangements a shallow container is appropriate. Because ikebana is a practiced art\, owning these accessories is a must to further your practice. \nAlso\, if you’d like to preserve the arrangement you created at the workshop\, these accessories are available for purchase at the workshop. $30 includes both. Cash\, Venmo or check will be accepted.\nNOTE: The cost of the workshop includes the use of the instructor’s kensan and container. 
URL:https://www.greshamjapanesegarden.org/calendar/introduction-to-ikebana-february-2/
LOCATION:Kyoudou Center\, 219 S. Main Avenue\, Gresham\, OR\, 97080
CATEGORIES:Introduction to Ikebana,Workshops
ATTACH;FMTTYPE=image/jpeg:https://www.greshamjapanesegarden.org/wp-content/uploads/2025/11/20251111_153247.jpg
END:VEVENT
BEGIN:VEVENT
DTSTART;TZID=America/Los_Angeles:20260211T173000
DTEND;TZID=America/Los_Angeles:20260211T193000
DTSTAMP:20260420T203454
CREATED:20251211T035847Z
LAST-MODIFIED:20260207T151430Z
UID:10000257-1770831000-1770838200@www.greshamjapanesegarden.org
SUMMARY:The Science and Biology of Pruning
DESCRIPTION:Join us for this Zoom webinar\, Tree Talk by Chris Roddick. Chris is an ISA Certified Arborist and a Northeast Organic Farming Association (NOFA). He is the author of the Tree Care Primer\, a guide to care for young\, mature\, and veteran trees. For thousands of years\, people have used the ancient practice of pruning to manipulate and enhance trees and shrubs. Yet the science and biology behind pruning is still among the most misunderstood practices in the field. \nThis Tree Talk will take a deep dive into the science of pruning while looking closely at the biological responses of trees. We’ll discuss topics such as cladoptosis and natural pruning\, compartmentalization\, and the roll of fungi and plant hormones. And last\, how best to make pruning decisions understanding what the plant needs. Join us! \nThe webinar will be taped and available for two weeks. The link will be sent out later that evening. \nNOTE: This webinar is on Pacific Standard Time.
URL:https://www.greshamjapanesegarden.org/calendar/the-science-and-biology-of-pruning/
LOCATION:Zoom\, 219 S Main Avenue\, Gresham\, OR
ATTACH;FMTTYPE=image/jpeg:https://www.greshamjapanesegarden.org/wp-content/uploads/2025/12/chris-roddick.jpg
END:VEVENT
BEGIN:VEVENT
DTSTART;TZID=America/Los_Angeles:20260215T120000
DTEND;TZID=America/Los_Angeles:20260215T140000
DTSTAMP:20260420T203454
CREATED:20251211T041720Z
LAST-MODIFIED:20260111T030932Z
UID:10000258-1771156800-1771164000@www.greshamjapanesegarden.org
SUMMARY:Pruning Fruit Trees
DESCRIPTION:Late winter is an ideal time to prune fruit trees. Pruning during dormancy helps invigorate growth\, removes dead\, weak\, or crossing branches\, and focuses the tree’s energy on fewer\, stronger limbs for a healthier structure and better harvest. \nInstructor Jonathan Faith will bring an apple tree\, pear tree\, nectarine tree\, and plum tree to discuss their different growth habits and forms\, and to demonstrate proper pruning techniques for fruit production. In addition to pruning\, Jonathan will cover cross-pollination\, fertilizers\, and common fungicide and insecticide sprays. \nThis seminar will take place at the Gresham Japanese Garden’s Kyoudou Center\, located at 219A S. Main Avenue\, Gresham\, OR 97030. \nInstructor: Jonathan FaithJonathan comes from a deep background in horticulture. For sixteen years\, he helped manage his family’s small orchard in Hubbard\, Oregon\, working with a wide variety of fruit trees. Jonathan is currently the store manager at Al’s Garden & Home in Gresham.
URL:https://www.greshamjapanesegarden.org/calendar/pruning-fruit-trees-2/
LOCATION:Kyoudou Center\, 219 S. Main Avenue\, Gresham\, OR\, 97080
CATEGORIES:Pruning Program
ATTACH;FMTTYPE=image/png:https://www.greshamjapanesegarden.org/wp-content/uploads/2024/08/Screenshot-2024-08-14-at-8.19.10 PM.png
END:VEVENT
BEGIN:VEVENT
DTSTART;TZID=America/Los_Angeles:20260219T180000
DTEND;TZID=America/Los_Angeles:20260219T200000
DTSTAMP:20260420T203454
CREATED:20251130T152935Z
LAST-MODIFIED:20260108T191033Z
UID:10000254-1771524000-1771531200@www.greshamjapanesegarden.org
SUMMARY:2026 The Art of Bonsai: Feb-Thurs
DESCRIPTION:Repotting Deciduous Trees\nIn this hands-on workshop\, Bonsai Master Bobby Curttright will teach you the essential techniques for repotting deciduous bonsai. He will cover how to safely remove a tree from its pot\, properly prune the roots\, explain soil mixes\, and position the tree to encourage healthy growth and strong structure. You will repot a maple as your take-home project. \nYou’ll also learn how repotting differs for various deciduous species\, how to identify when a tree is ready to be repotted\, and tips for aftercare to ensure a smooth recovery. This class is ideal for beginners and intermediate enthusiasts looking to build confidence in one of the most important bonsai maintenance skills. \nAll tools\, soil\, and materials will be provided. \nGift certificates available here.
URL:https://www.greshamjapanesegarden.org/calendar/2026-the-art-of-bonsai-feb-thurs/
LOCATION:Kyoudou Center\, 219 S. Main Avenue\, Gresham\, OR\, 97080
ATTACH;FMTTYPE=image/jpeg:https://www.greshamjapanesegarden.org/wp-content/uploads/2025/11/repotting-bonsai.jpg
END:VEVENT
BEGIN:VEVENT
DTSTART;TZID=America/Los_Angeles:20260221T130000
DTEND;TZID=America/Los_Angeles:20260221T150000
DTSTAMP:20260420T203454
CREATED:20251130T153250Z
LAST-MODIFIED:20260202T001242Z
UID:10000255-1771678800-1771686000@www.greshamjapanesegarden.org
SUMMARY:2026 The Art of Bonsai: Feb-Sat
DESCRIPTION:Repotting Deciduous Trees\nIn this hands-on workshop\, Bonsai Master Bobby Curttright will teach you the essential techniques for repotting deciduous bonsai. He will cover how to safely remove a tree from its pot\, properly prune the roots\, explain soil mixes\, and position the tree to encourage healthy growth and strong structure. You will repot a maple as your take-home project. \nYou’ll also learn how repotting differs for various deciduous species\, how to identify when a tree is ready to be repotted\, and tips for aftercare to ensure a smooth recovery. This class is ideal for beginners and intermediate enthusiasts looking to build confidence in one of the most important bonsai maintenance skills. \nAll tools\, soil\, and materials are provided. \nGift certificates available here.
URL:https://www.greshamjapanesegarden.org/calendar/2026-the-art-of-bonsai-feb-sat/
LOCATION:Kyoudou Center\, 219 S. Main Avenue\, Gresham\, OR\, 97080
ATTACH;FMTTYPE=image/jpeg:https://www.greshamjapanesegarden.org/wp-content/uploads/2025/11/repotting-bonsai.jpg
END:VEVENT
END:VCALENDAR