BEGIN:VCALENDAR
VERSION:2.0
PRODID:-//Gresham Japanese Garden - ECPv6.15.20//NONSGML v1.0//EN
CALSCALE:GREGORIAN
METHOD:PUBLISH
X-WR-CALNAME:Gresham Japanese Garden
X-ORIGINAL-URL:https://www.greshamjapanesegarden.org
X-WR-CALDESC:Events for Gresham Japanese Garden
REFRESH-INTERVAL;VALUE=DURATION:PT1H
X-Robots-Tag:noindex
X-PUBLISHED-TTL:PT1H
BEGIN:VTIMEZONE
TZID:America/Los_Angeles
BEGIN:DAYLIGHT
TZOFFSETFROM:-0800
TZOFFSETTO:-0700
TZNAME:PDT
DTSTART:20210314T100000
END:DAYLIGHT
BEGIN:STANDARD
TZOFFSETFROM:-0700
TZOFFSETTO:-0800
TZNAME:PST
DTSTART:20211107T090000
END:STANDARD
BEGIN:DAYLIGHT
TZOFFSETFROM:-0800
TZOFFSETTO:-0700
TZNAME:PDT
DTSTART:20220313T100000
END:DAYLIGHT
BEGIN:STANDARD
TZOFFSETFROM:-0700
TZOFFSETTO:-0800
TZNAME:PST
DTSTART:20221106T090000
END:STANDARD
BEGIN:DAYLIGHT
TZOFFSETFROM:-0800
TZOFFSETTO:-0700
TZNAME:PDT
DTSTART:20230312T100000
END:DAYLIGHT
BEGIN:STANDARD
TZOFFSETFROM:-0700
TZOFFSETTO:-0800
TZNAME:PST
DTSTART:20231105T090000
END:STANDARD
END:VTIMEZONE
BEGIN:VEVENT
DTSTART;TZID=America/Los_Angeles:20220709T100000
DTEND;TZID=America/Los_Angeles:20220709T160000
DTSTAMP:20260421T114937
CREATED:20220503T190528Z
LAST-MODIFIED:20220503T190534Z
UID:10000060-1657360800-1657382400@www.greshamjapanesegarden.org
SUMMARY:Koi Expo
DESCRIPTION:Join us for our first Koi Expo brought to you by The Northwest Koi and Goldfish Club at Main City Park Coho Pavillon. Educational seminars\, the viewing of dozens of koi\, a koi-paper fishing pond for children\, and a live auction with koi and pond related items are all scheduled! \nNext to the fish tanks\, you will find bonsai and bonsai containers for sale\, along with bonsai\, ikebana\, and origami demonstrations. \nMark your calendar for this special event! \n 
URL:https://www.greshamjapanesegarden.org/calendar/koi-expo/
LOCATION:Coho Pavillon
ATTACH;FMTTYPE=image/jpeg:https://www.greshamjapanesegarden.org/wp-content/uploads/2022/05/koi-header.jpg
END:VEVENT
END:VCALENDAR