BEGIN:VCALENDAR
VERSION:2.0
PRODID:-//Gresham Japanese Garden - ECPv6.15.20//NONSGML v1.0//EN
CALSCALE:GREGORIAN
METHOD:PUBLISH
X-WR-CALNAME:Gresham Japanese Garden
X-ORIGINAL-URL:https://www.greshamjapanesegarden.org
X-WR-CALDESC:Events for Gresham Japanese Garden
REFRESH-INTERVAL;VALUE=DURATION:PT1H
X-Robots-Tag:noindex
X-PUBLISHED-TTL:PT1H
BEGIN:VTIMEZONE
TZID:America/Los_Angeles
BEGIN:DAYLIGHT
TZOFFSETFROM:-0800
TZOFFSETTO:-0700
TZNAME:PDT
DTSTART:20240310T100000
END:DAYLIGHT
BEGIN:STANDARD
TZOFFSETFROM:-0700
TZOFFSETTO:-0800
TZNAME:PST
DTSTART:20241103T090000
END:STANDARD
BEGIN:DAYLIGHT
TZOFFSETFROM:-0800
TZOFFSETTO:-0700
TZNAME:PDT
DTSTART:20250309T100000
END:DAYLIGHT
BEGIN:STANDARD
TZOFFSETFROM:-0700
TZOFFSETTO:-0800
TZNAME:PST
DTSTART:20251102T090000
END:STANDARD
BEGIN:DAYLIGHT
TZOFFSETFROM:-0800
TZOFFSETTO:-0700
TZNAME:PDT
DTSTART:20260308T100000
END:DAYLIGHT
BEGIN:STANDARD
TZOFFSETFROM:-0700
TZOFFSETTO:-0800
TZNAME:PST
DTSTART:20261101T090000
END:STANDARD
END:VTIMEZONE
BEGIN:VEVENT
DTSTART;TZID=America/Los_Angeles:20250206T180000
DTEND;TZID=America/Los_Angeles:20250206T200000
DTSTAMP:20260419T134041
CREATED:20240829T035902Z
LAST-MODIFIED:20250128T185437Z
UID:10000185-1738864800-1738872000@www.greshamjapanesegarden.org
SUMMARY:Fundamentals of Conifers Webinar
DESCRIPTION:In this online course\, instructor Maryann Lewis will cover a variety of conifer basics\, from identifying their cultivar\, growth pattern\, and pruning approach. Learn fundamental pruning techniques for your favorite conifers including pines\, spruce\, hinoki and others\, and how to interpret each cultivar. This class will help you feel comfortable making pruning decisions so you can enjoy conifers even more. We highly recommend taking Maryann class on Sunday the 9th\, Pruning Conifers in the Garden.  \nThis course will be recorded and available for two weeks. The link will be sent out Friday morning.
URL:https://www.greshamjapanesegarden.org/calendar/fundamentals-of-conifers-2/
LOCATION:Zoom\, 219 S Main Avenue\, Gresham\, OR
CATEGORIES:Pruning Program
ATTACH;FMTTYPE=image/jpeg:https://www.greshamjapanesegarden.org/wp-content/uploads/2023/08/conifers.jpg
ORGANIZER;CN="Maryann Lewis":MAILTO:maryann@maryannlewis.com
END:VEVENT
BEGIN:VEVENT
DTSTART;TZID=America/Los_Angeles:20250209T100000
DTEND;TZID=America/Los_Angeles:20250209T120000
DTSTAMP:20260419T134041
CREATED:20240829T042844Z
LAST-MODIFIED:20250128T184927Z
UID:10000186-1739095200-1739102400@www.greshamjapanesegarden.org
SUMMARY:Fundamentals of Conifers - Onsite
DESCRIPTION:This class will build upon the knowledge gained in ‘Pruning Fundamentals for Conifers’ on the 6th. It will be beneficial to take the Zoom class. We will look at various small conifers in and around Tsuru Island and apply useful techniques and strategies that can be used in any garden style. \nThis class will meet at GJG’s Tsuru Island.
URL:https://www.greshamjapanesegarden.org/calendar/fundamentals-of-conifers-onsite/
LOCATION:GJG Tsuru Island\, 124 S Main Avenue\, Gresham\, OR\, 97030\, United States
CATEGORIES:Pruning Program
END:VEVENT
BEGIN:VEVENT
DTSTART;TZID=America/Los_Angeles:20250211T130000
DTEND;TZID=America/Los_Angeles:20250211T150000
DTSTAMP:20260419T134041
CREATED:20241212T015720Z
LAST-MODIFIED:20250119T230923Z
UID:10000195-1739278800-1739286000@www.greshamjapanesegarden.org
SUMMARY:Introduction to Ikebana - February
DESCRIPTION:What to Expect in the Workshop\nIn this workshop\, instructor Nana Bellerud covers the basic concept\, techniques\, tools and equipment\, and plant care for ikebana. Participants will practice a basic style arrangement within the rules of the Sogetsu School of Ikebana. Beyond simply producing a beautiful work of art with flowers and natural objects\, instructor Nana Bellerud will show you how ikebana explores artistic concepts such as balance\, contrast\, and negative space. \nSupplies and tools are onsite to borrow for the workshop. After you’ve worked on your arrangement\, you are encouraged to take a photo and then you will dismantle your work. The plant material is yours to take. If you wish to take your creation home in one piece\, or are interested in practicing ikebana further\, please consider purchasing a kensan and container at the workshop. See below. \nClass will be held in the Gresham Japanese Garden’s Kyoudou Center\, 219A S. Main Avenue\, Gresham\, OR 97030. The building is located at the south end of Main City Park in Gresham\, OR. It is the last building closest to the Springwater Trail. There is a parking lot adjacent to the building. \n\n\n\n \n\n			\n			\n				\n				\n				\n				\n			\n				\n				\n				\n				\n				\n				\n				\n					\n					\n					\n				\n				\n					\n					\n					\n				\n				\n			\n				\n				\n				\n				\n				\n				\n				\n				\n				\n				Kenzan + Container – $25\nIn ikebana\, the two accessories used is a kenzan\, or some people say pin frog\, and a container. For basic arrangements a shallow container is appropriate. Because ikebana is a practiced art\, owning these accessories is a must to further your practice. \nAlso\, if you’d like to preserve the arrangement you created at the workshop\, these accessories are available for purchase at the workshop. $25 includes both. Only cash or check. NOTE: The cost of the workshop includes the use of the instructor’s kensan and container. 
URL:https://www.greshamjapanesegarden.org/calendar/introduction-to-ikebana-february/
LOCATION:Kyoudou Center\, 219 S. Main Avenue\, Gresham\, OR\, 97080
CATEGORIES:Introduction to Ikebana,Workshops
ATTACH;FMTTYPE=image/jpeg:https://www.greshamjapanesegarden.org/wp-content/uploads/2023/12/ikebana-1.jpg
END:VEVENT
BEGIN:VEVENT
DTSTART;TZID=America/Los_Angeles:20250215T130000
DTEND;TZID=America/Los_Angeles:20250215T150000
DTSTAMP:20260419T134041
CREATED:20241021T050543Z
LAST-MODIFIED:20250204T203519Z
UID:10000191-1739624400-1739631600@www.greshamjapanesegarden.org
SUMMARY:2025 The Art of Bonsai - Feb Saturday
DESCRIPTION:The Art of Bonsai embodies the Japanese spirit with philosophy and aesthetics harmonizing and complimenting each other. Bonsai is more than just an art form – it is a way of life and thinking; a way of cultivating patience\, nobility\, and sympathy – and this is the reason why bonsai is important for Japanese culture. Therefore\, to understand bonsai\, you must learn and understand each of its core values ​​in order to experience it with a calm and open mind. \nExplore Gresham Japanese Garden’s Art of Bonsai workshop with Mark Vossbrink. Each month will be a different project in creating your own bonsai. The $40.00 cost includes all materials. A show and tell is part of the workshop\, so feel free to bring one of your pieces from home. Please bring your own pruners or snippers. \nFebruary’s subject matter will be a forcynthia shrub. Explore the different bonsai styles to show off the beautiful spring bloom. \nCost: $40 per class\n2024 Dates: Third Thursday or third Saturday of the month. Project is repeated.\nTime: 1pm – 3pm\nPlace: The Gresham Japanese Garden’s Kyoudou Center\, the building at the south end of Main City Park. There is a parking lot near the building.
URL:https://www.greshamjapanesegarden.org/calendar/2025-the-art-of-bonsai-feb-saturday/
LOCATION:Kyoudou Center\, 219 S. Main Avenue\, Gresham\, OR\, 97080
CATEGORIES:The Art of Bonsai
ATTACH;FMTTYPE=image/jpeg:https://www.greshamjapanesegarden.org/wp-content/uploads/2022/10/bonsai-header.jpg
END:VEVENT
BEGIN:VEVENT
DTSTART;TZID=America/Los_Angeles:20250220T130000
DTEND;TZID=America/Los_Angeles:20250220T150000
DTSTAMP:20260419T134041
CREATED:20241021T045355Z
LAST-MODIFIED:20250204T203126Z
UID:10000190-1740056400-1740063600@www.greshamjapanesegarden.org
SUMMARY:2025 The Art of Bonsai - Feb Thursday
DESCRIPTION:The Art of Bonsai embodies the Japanese spirit with philosophy and aesthetics harmonizing and complimenting each other. Bonsai is more than just an art form – it is a way of life and thinking; a way of cultivating patience\, nobility\, and sympathy – and this is the reason why bonsai is important for Japanese culture. Therefore\, to understand bonsai\, you must learn and understand each of its core values ​​in order to experience it with a calm and open mind. \nExplore Gresham Japanese Garden’s Art of Bonsai workshop with Mark Vossbrink. Each month will be a different project in creating your own bonsai. The $40.00 cost includes all materials. A show and tell is part of the workshop\, so feel free to bring one of your pieces from home. Please bring your own pruners or snippers. \n \nFebruary’s subject matter will be a forcynthia shrub. Explore the different bonsai styles to show off the beautiful spring bloom. \nCost: $40 per class\n2024 Dates: Third Thursday or third Saturday of the month. Project is repeated.\nTime: 1pm – 3pm\nPlace: The Gresham Japanese Garden’s Kyoudou Center\, the building at the south end of Main City Park. There is a parking lot near the building.
URL:https://www.greshamjapanesegarden.org/calendar/2025-the-art-of-bonsai-feb-thursday/
LOCATION:Kyoudou Center\, 219 S. Main Avenue\, Gresham\, OR\, 97080
CATEGORIES:The Art of Bonsai
ATTACH;FMTTYPE=image/jpeg:https://www.greshamjapanesegarden.org/wp-content/uploads/2022/10/bonsai-header.jpg
END:VEVENT
END:VCALENDAR