BEGIN:VCALENDAR
VERSION:2.0
PRODID:-//Gresham Japanese Garden - ECPv6.15.20//NONSGML v1.0//EN
CALSCALE:GREGORIAN
METHOD:PUBLISH
X-ORIGINAL-URL:https://www.greshamjapanesegarden.org
X-WR-CALDESC:Events for Gresham Japanese Garden
REFRESH-INTERVAL;VALUE=DURATION:PT1H
X-Robots-Tag:noindex
X-PUBLISHED-TTL:PT1H
BEGIN:VTIMEZONE
TZID:America/Los_Angeles
BEGIN:DAYLIGHT
TZOFFSETFROM:-0800
TZOFFSETTO:-0700
TZNAME:PDT
DTSTART:20210314T100000
END:DAYLIGHT
BEGIN:STANDARD
TZOFFSETFROM:-0700
TZOFFSETTO:-0800
TZNAME:PST
DTSTART:20211107T090000
END:STANDARD
BEGIN:DAYLIGHT
TZOFFSETFROM:-0800
TZOFFSETTO:-0700
TZNAME:PDT
DTSTART:20220313T100000
END:DAYLIGHT
BEGIN:STANDARD
TZOFFSETFROM:-0700
TZOFFSETTO:-0800
TZNAME:PST
DTSTART:20221106T090000
END:STANDARD
BEGIN:DAYLIGHT
TZOFFSETFROM:-0800
TZOFFSETTO:-0700
TZNAME:PDT
DTSTART:20230312T100000
END:DAYLIGHT
BEGIN:STANDARD
TZOFFSETFROM:-0700
TZOFFSETTO:-0800
TZNAME:PST
DTSTART:20231105T090000
END:STANDARD
END:VTIMEZONE
BEGIN:VEVENT
DTSTART;TZID=America/Los_Angeles:20220414T183000
DTEND;TZID=America/Los_Angeles:20220414T200000
DTSTAMP:20260421T202207
CREATED:20210323T042605Z
LAST-MODIFIED:20220407T161507Z
UID:10000050-1649961000-1649966400@www.greshamjapanesegarden.org
SUMMARY:Organic Vegetable Gardening - Rescheduled time on Zoom
DESCRIPTION:This is a free class hosted on Zoom. \nJoin Zoom Meeting – Rescheduledhttps://us02web.zoom.us/j/86010681569?pwd=aUVLcU5CL3orOElVcUNvY0p3NWViQT09Meeting ID: 860 1068 1569Passcode: 456440 \nIt will cover how to improve your garden’s health and our environment by growing organically. The class will include soil preparation\, planting succession tips\, companion planting\, avoiding diseases\, different types of composting\, and elements of permaculture. \n  \n \n \n \n \n			\n				\n				\n				\n				\n				INSTRUCTOR: JIM BUCK \nJim has been an avid gardener since childhood when he asked for plants as birthday gifts. He worked at a nursery during high school learning more about plant propagation\, plant diseases\, and nutritional needs. \nAs a former school principal\, Jim involved the entire school in restoring and certifying acreage behind the school as a wildlife habitat. He has a strong interest in native plants and their uses by indigenous tribes. Jim volunteers at Tsuru Island Japanese Garden and coordinates a community garden in Gresham. He also serves on the Urban Forestry Subcommittee for the city of Gresham. His perennial garden at home contains more than 150 different plant species. When not gardening\, he enjoys cycling\, wood turning\, traveling and hiking.  \n \n \n \n \n			\n				REGISTER
URL:https://www.greshamjapanesegarden.org/calendar/organic-vegetable-gardening-zoom/
LOCATION:Zoom\, 219 S Main Avenue\, Gresham\, OR
CATEGORIES:Classes
END:VEVENT
END:VCALENDAR